BEGIN:VCALENDAR
VERSION:2.0
PRODID:-//AFRY - ECPv6.15.20//NONSGML v1.0//EN
CALSCALE:GREGORIAN
METHOD:PUBLISH
X-WR-CALNAME:AFRY
X-ORIGINAL-URL:https://afry.ca
X-WR-CALDESC:Évènements pour AFRY
REFRESH-INTERVAL;VALUE=DURATION:PT1H
X-Robots-Tag:noindex
X-PUBLISHED-TTL:PT1H
BEGIN:VTIMEZONE
TZID:America/Toronto
BEGIN:DAYLIGHT
TZOFFSETFROM:-0500
TZOFFSETTO:-0400
TZNAME:EDT
DTSTART:20250309T070000
END:DAYLIGHT
BEGIN:STANDARD
TZOFFSETFROM:-0400
TZOFFSETTO:-0500
TZNAME:EST
DTSTART:20251102T060000
END:STANDARD
BEGIN:DAYLIGHT
TZOFFSETFROM:-0500
TZOFFSETTO:-0400
TZNAME:EDT
DTSTART:20260308T070000
END:DAYLIGHT
BEGIN:STANDARD
TZOFFSETFROM:-0400
TZOFFSETTO:-0500
TZNAME:EST
DTSTART:20261101T060000
END:STANDARD
BEGIN:DAYLIGHT
TZOFFSETFROM:-0500
TZOFFSETTO:-0400
TZNAME:EDT
DTSTART:20270314T070000
END:DAYLIGHT
BEGIN:STANDARD
TZOFFSETFROM:-0400
TZOFFSETTO:-0500
TZNAME:EST
DTSTART:20271107T060000
END:STANDARD
END:VTIMEZONE
BEGIN:VEVENT
DTSTART;TZID=America/Toronto:20260319T181500
DTEND;TZID=America/Toronto:20260319T194500
DTSTAMP:20260420T115031
CREATED:20260318T204005Z
LAST-MODIFIED:20260319T164733Z
UID:10000008-1773944100-1773949500@afry.ca
SUMMARY:Atelier Cuisine Parents-Enfants
DESCRIPTION:Atelier cuisine parents-enfants en français : cuisinez ensemble\, apprenez des recettes simples et partagez un moment convivial en famille.\n\n\nL’Association des Francophones de la Région de York (AFRY) vous invite à participer à un atelier cuisine parents-enfants en français. \nCet atelier est conçu pour offrir un moment de partage et de complicité entre parents et enfants autour de la cuisine. Les participants découvriront des recettes simples et apprendront des techniques de base adaptées à tous les niveaux. \nAccompagnés pas à pas\, les enfants pourront participer activement à la préparation des recettes\, développer leur autonomie et leur créativité\, tout en s’amusant dans un environnement sécuritaire et convivial. \nCet atelier est une excellente occasion de renforcer les liens familiaux\, d’encourager l’apprentissage en français et de partager un moment agréable en communauté. \nTous les ingrédients et le matériel sont fournis. \nUne dégustation conviviale est prévue à la fin de l’atelier. \nSi vous avez un imprévu et ne pouvez pas assister à l’atelier\, merci d’annuler votre inscription via Eventbrite afin de permettre à une personne en liste d’attente de participer.
URL:https://afry.ca/evenement/atelier-cuisine-parents-enfants-2/
LOCATION:VMC Library & VMC Express\, 200 Apple Mill Road\, Vaughan\, ON\, L4K 0J8\, Canada
ATTACH;FMTTYPE=image/jpeg:https://afry.ca/wp-content/uploads/2026/03/771d582e31e82b3aecf95d5e33fec5bf-1.jpg
END:VEVENT
END:VCALENDAR